BEGIN:VCALENDAR
VERSION:2.0
PRODID:-//Cloud Service Providers – Advisory Board (CSP-AB) - ECPv6.15.20//NONSGML v1.0//EN
CALSCALE:GREGORIAN
METHOD:PUBLISH
X-WR-CALNAME:Cloud Service Providers – Advisory Board (CSP-AB)
X-ORIGINAL-URL:https://www.csp-ab.com
X-WR-CALDESC:Events for Cloud Service Providers – Advisory Board (CSP-AB)
REFRESH-INTERVAL;VALUE=DURATION:PT1H
X-Robots-Tag:noindex
X-PUBLISHED-TTL:PT1H
BEGIN:VTIMEZONE
TZID:America/New_York
BEGIN:DAYLIGHT
TZOFFSETFROM:-0500
TZOFFSETTO:-0400
TZNAME:EDT
DTSTART:20240310T070000
END:DAYLIGHT
BEGIN:STANDARD
TZOFFSETFROM:-0400
TZOFFSETTO:-0500
TZNAME:EST
DTSTART:20241103T060000
END:STANDARD
BEGIN:DAYLIGHT
TZOFFSETFROM:-0500
TZOFFSETTO:-0400
TZNAME:EDT
DTSTART:20250309T070000
END:DAYLIGHT
BEGIN:STANDARD
TZOFFSETFROM:-0400
TZOFFSETTO:-0500
TZNAME:EST
DTSTART:20251102T060000
END:STANDARD
BEGIN:DAYLIGHT
TZOFFSETFROM:-0500
TZOFFSETTO:-0400
TZNAME:EDT
DTSTART:20260308T070000
END:DAYLIGHT
BEGIN:STANDARD
TZOFFSETFROM:-0400
TZOFFSETTO:-0500
TZNAME:EST
DTSTART:20261101T060000
END:STANDARD
END:VTIMEZONE
BEGIN:VEVENT
DTSTART;TZID=America/New_York:20251106T090000
DTEND;TZID=America/New_York:20251106T180000
DTSTAMP:20260422T161625
CREATED:20250923T123213Z
LAST-MODIFIED:20251031T113814Z
UID:10000006-1762419600-1762452000@www.csp-ab.com
SUMMARY:CSP-AB Summit 2025
DESCRIPTION:We’re excited to announce the launch of our inaugural CSP-AB Summit 2025 — a brand-new flagship event bringing together the CSP-AB member community\, federal agencies\, and policy leaders for a high-impact forum on the future of cloud security and compliance in the federal space. \nCSP-AB Summit 2025 will serve as a key meeting ground for industry and government leaders to connect\, collaborate\, and share insights that will help shape future frameworks and priorities — including FedRAMP\, DISA\, DoW\, and Continuous Monitoring. \nWith three goals at its core — driving standards\, strengthening community dialogue\, and advancing practical solutions — the Summit aims to foster collaboration and accelerate progress across the federal cloud ecosystem. \nAttendees can look forward to structured forums\, dynamic technical showcases\, and meaningful peer engagement — all centered on advancing real-world practices and shaping the next generation of secure\, compliant cloud services. \nIf you’re a decision-maker\, policy influencer\, or cloud service provider looking to help shape the evolving federal cloud ecosystem\, this is the event you won’t want to miss. \nSpeakers\n\nChris DeRusha\, Director of Global Public Sector Compliance – Google\nGaurav (“GP”) Pal\, CEO – stackArmor\nMichael Cardaci\, CEO – FedHIVE / HRTec\nChristian Baer\, Technical Fellow – Schellman\nJustin Padilla\, Senior Director of Cybersecurity Services – Kratos\nGary Guercio\, Vice President of Service Delivery – Fortreum\nNic Hall\, Senior Staff Technical Program Manager – Zscaler\nBen Ware\, Senior Director\, Global Government & Restricted Realms – Oracle\nMarc Zurcher\, Managing Principal of Public Sector Advisory – Coalfire\nIrfan Nawaz\, Senior Director of Government Technology Accreditation – Salesforce GovCloud\nRoss Nodurft\, Executive Director – Alliance for Digital Innovation (ADI)\nChris Johnson\, Chief Technology Officer – Knox Systems Inc.\nPLUS\, a surprise guest speaker for our fireside chat!\n\nAgenda\n\n09:00-10:00: Doors Open for Breakfast and Networking\n10:00-10:15: Opening Remarks and the Journey of the CSP-AB\n10:15-11:30: Panel “Technology Leadership in the Cloud Era: Strategy\, Scale and Security”\n11:30-12:30: Panel “Emerging Technologies in Cloud and Cybersecurity: Rethinking Compliance and Assurance”\n12:30-13:30: Lunch\n13:30-14:30: Panel “Modernizing DoD Cloud Compliance: Strategies\, Challenges\, and Collaboration”\n14:30-15:00: Coffee Break\n15:00-16:30: Fireside Chat with Surprise Special Guest\n16:30-17:00: Closing Remarks\n17:00-18:00: Drinks Reception\n\nHow to attend\nThis complimentary event is open to both CSP-AB members and non-members; however\, it is not open to members of the media. Please note that registration does not guarantee attendance. Once you have registered\, our team will review your submission and\, if approved\, provide you with further details. \nRequest a free ticket
URL:https://www.csp-ab.com/event/summit-2025/
LOCATION:Amazon HQ2\, 510 14th St\, Arlington\, VA\, 22202\, United States
ATTACH;FMTTYPE=image/jpeg:https://www.csp-ab.com/wp-content/uploads/2025/09/CSP-AB-Summit-2025-1.jpg
END:VEVENT
END:VCALENDAR